Workbook

Sheet 2A_Overall
A1: 2. PROJECT BUDGET
A3: 2 A) | B3: Overall Budget
B4: Please provide a detailed breakdown of the overall/total budget required for the project (including your Industry Collaborator's contributions). Please note that budget amounts should be rounded to the nearest S$10 for direct costs.
B5: For ICP budget request, please compute the total requirements for manpower, consumables and equipment of the project using your Institution's actual rates in accordance with your Institution's HR policy, and indicate indirect or overhead costs where applicable. Industry charge-out rates may be applied for Performer and Company contributions. Please clearly articulate the manpower involved in the Project, including a distinction of the respective funding sources: Grant-funded, Performer in‑kind, Collaborator’s in‑kind or cash contributions).
B6: Use this section to provide details and rationale for the budget support requested for the performance of the Project, and indicate the corresponding Work Package (WP) for each budget line item, where applicable, to ensure alignment between resource requirements and the Project Plan. • EOM: Describe the specific contributions of each staff member to the project deliverables, and highlight any technical challenges associated with their roles. • EQPT: Justify for each equipment item, demonstrating how it supports the achievement of project deliverables. • OOE: Justify for all Other Operating Expenses requested. • For Research Scholarship (RS), postgraduate stipend must align with the prevailing rates set by the Ministry of Education. Postgraduate stipend and tuition support will not attract indirect costs. • For EOM, the Team should detail specific contribution of each staff to the deliverables as well as highlight the technical challenges faced by each staff. • For EQPT, the Team should justify its purchase for each piece of equipment and show how it contributes to the fulfillment of the project deliverables. • For OOE, the Team should provide justifications for the items requested.
B7: Note: Please retain the line items in each worksheet and avoid merging rows. If there are multiple institutions or companies involved in the Project, please specify the entity in brackets under ‘Site of Spending’, e.g. SG Performer (NTU), SG Performer (NUS), SG Company (ABC).
B9: Manpower (EOM) | C9: Year 1 | D9: Year 2 | E9: Year 3 | F9: Year 4 | G9: Year 5 | H9: Total ($)
C10: S($) | D10: S($) | E10: S($) | F10: S($) | G10: S($)
B11: 2B1 ICP Request | C11: ='2B1_ICP Request'!H13 -> 0 | D11: ='2B1_ICP Request'!I13 -> 0 | E11: ='2B1_ICP Request'!J13 -> 0 | F11: ='2B1_ICP Request'!K13 -> 0 | G11: ='2B1_ICP Request'!L13 -> 0 | H11: =SUM(C11:G11) -> 0
B12: 2B2 Pfm In-Kind | C12: ='2B2_Pfm In-Kind'!H13 -> 0 | D12: ='2B2_Pfm In-Kind'!I13 -> 0 | E12: ='2B2_Pfm In-Kind'!J13 -> 0 | F12: ='2B2_Pfm In-Kind'!K13 -> 0 | G12: ='2B2_Pfm In-Kind'!L13 -> 0 | H12: =SUM(C12:G12) -> 0
B13: 2C1 Coy Cash | C13: ='2C1_Coy Cash'!I13 -> 0 | D13: ='2C1_Coy Cash'!J13 -> 0 | E13: ='2C1_Coy Cash'!K13 -> 0 | F13: ='2C1_Coy Cash'!L13 -> 0 | G13: ='2C1_Coy Cash'!M13 -> 0 | H13: =SUM(C13:G13) -> 0
B14: 2C2 Coy In-Kind | C14: ='2C2_Coy In-Kind'!I13 -> 0 | D14: ='2C2_Coy In-Kind'!J13 -> 0 | E14: ='2C2_Coy In-Kind'!K13 -> 0 | F14: ='2C2_Coy In-Kind'!L13 -> 0 | G14: ='2C2_Coy In-Kind'!M13 -> 0 | H14: =SUM(C14:G14) -> 0
B15: EOM Sub-Total | C15: =SUM(C11:C14) -> 0 | D15: =SUM(D11:D14) -> 0 | E15: =SUM(E11:E14) -> 0 | F15: =SUM(F11:F14) -> 0 | G15: =SUM(G11:G14) -> 0 | H15: =SUM(C15:G15) -> 0
B16: Equipment (EQPT) (please state item) | C16: Year 1 | D16: Year 2 | E16: Year 3 | F16: Year 4 | G16: Year 5 | H16: Total ($)
C17: S($) | D17: S($) | E17: S($) | F17: S($) | G17: S($)
B18: 2B1 ICP Request | C18: ='2B1_ICP Request'!H20 -> 0 | D18: ='2B1_ICP Request'!I20 -> 0 | E18: ='2B1_ICP Request'!J20 -> 0 | F18: ='2B1_ICP Request'!K20 -> 0 | G18: ='2B1_ICP Request'!L20 -> 0 | H18: =SUM(C18:G18) -> 0
B19: 2B2 Pfm In-Kind | C19: ='2B2_Pfm In-Kind'!H20 -> 0 | D19: ='2B2_Pfm In-Kind'!I20 -> 0 | E19: ='2B2_Pfm In-Kind'!J20 -> 0 | F19: ='2B2_Pfm In-Kind'!K20 -> 0 | G19: ='2B2_Pfm In-Kind'!L20 -> 0 | H19: =SUM(C19:G19) -> 0
B20: 2C1 Coy Cash | C20: ='2C1_Coy Cash'!I20 -> 0 | D20: ='2C1_Coy Cash'!J20 -> 0 | E20: ='2C1_Coy Cash'!K20 -> 0 | F20: ='2C1_Coy Cash'!L20 -> 0 | G20: ='2C1_Coy Cash'!M20 -> 0 | H20: =SUM(C20:G20) -> 0
B21: 2C2 Coy In-Kind | C21: ='2C2_Coy In-Kind'!I20 -> 0 | D21: ='2C2_Coy In-Kind'!J20 -> 0 | E21: ='2C2_Coy In-Kind'!K20 -> 0 | F21: ='2C2_Coy In-Kind'!L20 -> 0 | G21: ='2C2_Coy In-Kind'!M20 -> 0 | H21: =SUM(C21:G21) -> 0
B22: EQPT Sub-Total | C22: =SUM(C18:C21) -> 0 | D22: =SUM(D18:D21) -> 0 | E22: =SUM(E18:E21) -> 0 | F22: =SUM(F18:F21) -> 0 | G22: =SUM(G18:G21) -> 0 | H22: =SUM(C22:G22) -> 0
B23: Other Operating Expenses (OOE) | C23: Year 1 | D23: Year 2 | E23: Year 3 | F23: Year 4 | G23: Year 5 | H23: Total ($)
C24: S($) | D24: S($) | E24: S($) | F24: S($) | G24: S($)
B25: 2B1 ICP Request | C25: ='2B1_ICP Request'!H28 -> 0 | D25: ='2B1_ICP Request'!I28 -> 0 | E25: ='2B1_ICP Request'!J28 -> 0 | F25: ='2B1_ICP Request'!K28 -> 0 | G25: ='2B1_ICP Request'!L28 -> 0 | H25: =SUM(C25:G25) -> 0
B26: 2B2 Pfm In-Kind | C26: ='2B2_Pfm In-Kind'!H28 -> 0 | D26: ='2B2_Pfm In-Kind'!I28 -> 0 | E26: ='2B2_Pfm In-Kind'!J28 -> 0 | F26: ='2B2_Pfm In-Kind'!K28 -> 0 | G26: ='2B2_Pfm In-Kind'!L28 -> 0 | H26: =SUM(C26:G26) -> 0
B27: 2C1 Coy Cash | C27: ='2C1_Coy Cash'!I28 -> 0 | D27: ='2C1_Coy Cash'!J28 -> 0 | E27: ='2C1_Coy Cash'!K28 -> 0 | F27: ='2C1_Coy Cash'!L28 -> 0 | G27: ='2C1_Coy Cash'!M28 -> 0 | H27: =SUM(C27:G27) -> 0
B28: 2C2 Coy In-Kind | C28: ='2C2_Coy In-Kind'!I28 -> 0 | D28: ='2C2_Coy In-Kind'!J28 -> 0 | E28: ='2C2_Coy In-Kind'!K28 -> 0 | F28: ='2C2_Coy In-Kind'!L28 -> 0 | G28: ='2C2_Coy In-Kind'!M28 -> 0 | H28: =SUM(C28:G28) -> 0
B29: OOE Sub-Total | C29: =SUM(C25:C28) -> 0 | D29: =SUM(D25:D28) -> 0 | E29: =SUM(E25:E28) -> 0 | F29: =SUM(F25:F28) -> 0 | G29: =SUM(G25:G28) -> 0 | H29: =SUM(C29:G29) -> 0
B30: Overseas Travel (TRVL) | C30: Year 1 | D30: Year 2 | E30: Year 3 | F30: Year 4 | G30: Year 5 | H30: Total ($)
C31: S($) | D31: S($) | E31: S($) | F31: S($) | G31: S($)
B32: 2B1 ICP Request | C32: ='2B1_ICP Request'!H31 -> 0 | D32: ='2B1_ICP Request'!I31 -> 0 | E32: ='2B1_ICP Request'!J31 -> 0 | F32: ='2B1_ICP Request'!K31 -> 0 | G32: ='2B1_ICP Request'!L31 -> 0 | H32: =SUM(C32:G32) -> 0
B33: 2B2 Pfm In-Kind | C33: ='2B2_Pfm In-Kind'!H33 -> 0 | D33: ='2B2_Pfm In-Kind'!I33 -> 0 | E33: ='2B2_Pfm In-Kind'!J33 -> 0 | F33: ='2B2_Pfm In-Kind'!K33 -> 0 | G33: ='2B2_Pfm In-Kind'!L33 -> 0 | H33: =SUM(C33:G33) -> 0
B34: 2C1 Coy Cash | C34: ='2C1_Coy Cash'!I33 -> 0 | D34: ='2C1_Coy Cash'!J33 -> 0 | E34: ='2C1_Coy Cash'!K33 -> 0 | F34: ='2C1_Coy Cash'!L33 -> 0 | G34: ='2C1_Coy Cash'!M33 -> 0 | H34: =SUM(C34:G34) -> 0
B35: Overseas Travel Sub-Total | C35: =SUM(C34:C34) -> 0 | D35: =SUM(D34:D34) -> 0 | E35: =SUM(E34:E34) -> 0 | F35: =SUM(F34:F34) -> 0 | G35: =SUM(G34:G34) -> 0 | H35: =SUM(C35:G35) -> 0
B36: Research Scholarship (if any) | C36: Year 1 | D36: Year 2 | E36: Year 3 | F36: Year 4 | G36: Year 5 | H36: Total ($)
C37: S($) | D37: S($) | E37: S($) | F37: S($) | G37: S($)
B38: 2B1 ICP Request | C38: ='2B1_ICP Request'!H37 -> 0 | D38: ='2B1_ICP Request'!I37 -> 0 | E38: ='2B1_ICP Request'!J37 -> 0 | F38: ='2B1_ICP Request'!K37 -> 0 | G38: ='2B1_ICP Request'!L37 -> 0 | H38: =SUM(C38:G38) -> 0
B39: 2B2 Pfm In-Kind | C39: ='2B2_Pfm In-Kind'!H37 -> 0 | D39: ='2B2_Pfm In-Kind'!I37 -> 0 | E39: ='2B2_Pfm In-Kind'!J37 -> 0 | F39: ='2B2_Pfm In-Kind'!K37 -> 0 | G39: ='2B2_Pfm In-Kind'!L37 -> 0 | H39: =SUM(C39:G39) -> 0
B40: 2C1 Coy Cash | C40: ='2C1_Coy Cash'!I37 -> 0 | D40: ='2C1_Coy Cash'!J37 -> 0 | E40: ='2C1_Coy Cash'!K37 -> 0 | F40: ='2C1_Coy Cash'!L37 -> 0 | G40: ='2C1_Coy Cash'!M37 -> 0 | H40: =SUM(C40:G40) -> 0
B41: 2C2 Coy In-Kind | C41: ='2C2_Coy In-Kind'!I32 -> 0 | D41: ='2C2_Coy In-Kind'!J32 -> 0 | E41: ='2C2_Coy In-Kind'!K32 -> 0 | F41: ='2C2_Coy In-Kind'!L32 -> 0 | G41: ='2C2_Coy In-Kind'!M32 -> 0 | H41: =SUM(C41:G41) -> 0
B42: Research Scholarship Sub-Total | C42: =SUM(C38) -> 0 | D42: =SUM(D38) -> 0 | E42: =SUM(E38) -> 0 | F42: =SUM(F38) -> 0 | G42: =SUM(G38) -> 0 | H42: =SUM(C42:G42) -> 0
...

Sheet 2B1_ICP Request
A1: 2. PROJECT BUDGET
A3: 2 B1) | B3: Performer's ICP Budget Request
H4: *round to nearest S$10 for direct costs
B5: Manpower (EOM) | C5: Qualifications | D5: % Full Time Equivalent | E5: No. of headcount (Indicate subset of new hires, if any) | F5: Source of Funding | G5: Site of Spending (SG Company, SG Performer or Overseas) | H5: Year 1 | I5: Year 2 | J5: Year 3 | K5: Year 4 | L5: Year 5 | M5: Total ($) | N5: Work Package (if any) | O5: Justifications
H6: S($) | I6: S($) | J6: S($) | K6: S($) | L6: S($)
B7: PI (Name) | F7: IAF-ICP | M7: =SUM(H7:L7) -> 0
B8: Co-I (Name) | F8: IAF-ICP | M8: =SUM(H8:L8) -> 0
B9: Postdoctoral Fellow | M9: =SUM(H9:L9) -> 0
B10: Research Officer | M10: =SUM(H10:L10) -> 0
B11: Lab Technician | M11: =SUM(H11:L11) -> 0
B12: (Pls insert more rows / delete unused rows) | M12: =SUM(H12:L12) -> 0
B13: EOM Sub-Total | H13: =SUM(H7:H12) -> 0 | I13: =SUM(I7:I12) -> 0 | J13: =SUM(J7:J12) -> 0 | K13: =SUM(K7:K12) -> 0 | L13: =SUM(L7:L12) -> 0 | M13: =SUM(M7:M12) -> 0 | N13: -
B14: Equipment (EQPT) (Please state items) | D14: % Usage | E14: No. of EQPT | F14: Source of Funding | G14: Site of Spending (SG Company, SG Performer or Overseas) | H14: Year 1 | I14: Year 2 | J14: Year 3 | K14: Year 4 | L14: Year 5 | M14: Total ($) | N14: Work Package (if any) | O14: Justifications#
H15: S($) | I15: S($) | J15: S($) | K15: S($) | L15: S($)
F16: IAF-ICP | M16: =SUM(H16:L16) -> 0
F17: IAF-ICP | M17: =SUM(H17:L17) -> 0
M18: =SUM(H18:L18) -> 0
B19: (Pls insert more rows / delete unused rows) | M19: =SUM(H19:L19) -> 0
B20: EQPT Sub-Total | H20: =SUM(H16:H19) -> 0 | I20: =SUM(I16:I19) -> 0 | J20: =SUM(J16:J19) -> 0 | K20: =SUM(K16:K19) -> 0 | L20: =SUM(L16:L19) -> 0 | M20: =SUM(M16:M19) -> 0 | N20: -
B21: Other Operating Expenses (OOE) | F21: Source of Funding | G21: Site of Spending (SG Company, SG Performer or Overseas) | H21: Year 1 | I21: Year 2 | J21: Year 3 | K21: Year 4 | L21: Year 5 | M21: Total ($) | N21: Work Package (if any) | O21: Justifications#
H22: S($) | I22: S($) | J22: S($) | K22: S($) | L22: S($)
B23: Materials | M23: =SUM(H23:L23) -> 0
B24: Consumables | M24: =SUM(H24:L24) -> 0
B25: Animal Costs | M25: =SUM(H25:L25) -> 0
B26: Others (please state) | M26: =SUM(H26:L26) -> 0
B27: (Pls insert more rows / delete unused rows) | M27: =SUM(H27:L27) -> 0
B28: OOE Sub-Total | H28: =SUM(H23:H27) -> 0 | I28: =SUM(I23:I27) -> 0 | J28: =SUM(J23:J27) -> 0 | K28: =SUM(K23:K27) -> 0 | L28: =SUM(L23:L27) -> 0 | M28: =SUM(M23:M27) -> 0 | N28: -
B29: Overseas Travel (OT) | E29: No. of trips | F29: Source of Funding | G29: Site of Spending (SG Company, SG Performer or Overseas) | H29: Year 1 | I29: Year 2 | J29: Year 3 | K29: Year 4 | L29: Year 5 | M29: Total ($) | N29: Work Package (if any) | O29: Justifications#
H30: S($) | I30: S($) | J30: S($) | K30: S($) | L30: S($)
B31: Conferences (please provide names and places) | M31: =SUM(H31:L31) -> 0
B32: Events (please provide names and places) | M32: =SUM(H32:L32) -> 0
B33: OT Sub-Total | H33: =SUM(H31:H32) -> 0 | I33: =SUM(I31:I32) -> 0 | J33: =SUM(J31:J32) -> 0 | K33: =SUM(K31:K32) -> 0 | L33: =SUM(L31:L32) -> 0 | M33: =SUM(M31:M32) -> 0 | N33: -
B34: Research Scholarship (if any) | D34: % Full Time Equivalent | E34: No. of Headcount involved | F34: Source of Funding | G34: Site of Spending (SG Company, SG Performer or Overseas) | H34: Year 1 | I34: Year 2 | J34: Year 3 | K34: Year 4 | L34: Year 5 | M34: Total ($) | O34: Justifications
H35: S($) | I35: S($) | J35: S($) | K35: S($) | L35: S($)
M36: =SUM(G36:K36) -> 0
B37: Research Scholarship Sub-Total (provide details in Para 2D) | H37: =SUM(H36) -> 0 | I37: =SUM(I36) -> 0 | J37: =SUM(J36) -> 0 | K37: =SUM(K36) -> 0 | L37: =SUM(L36) -> 0 | M37: =SUM(M36) -> 0
B38: Joint Fund (if any) | F38: Source of Funding | G38: Site of Spending (SG Company, SG Performer or Overseas) | H38: Year 1 | I38: Year 2 | J38: Year 3 | K38: Year 4 | L38: Year 5 | M38: Total ($) | O38: Justifications
H39: S($) | I39: S($) | J39: S($) | K39: S($) | L39: S($)
M40: =SUM(G40:K40) -> 0
B41: Joint Fund Sub-Total (provide details in Para 2D) | H41: =SUM(H40) -> 0 | I41: =SUM(I40) -> 0 | J41: =SUM(J40) -> 0 | K41: =SUM(K40) -> 0 | L41: =SUM(L40) -> 0 | M41: =SUM(M40) -> 0
...

Sheet 2B2_Pfm In-Kind
A1: 2. PROJECT BUDGET
A3: 2 B2) | B3: Performer's In-Kind Contribution
H4: *round to nearest S$10 for direct costs
B5: Manpower (EOM) | C5: Qualifications | D5: % Full Time Equivalent | E5: No. of headcount (Indicate subset of new hires, if any) | F5: Source of Funding | G5: Site of Spending (SG Company, SG Performer or Overseas) | H5: Year 1 | I5: Year 2 | J5: Year 3 | K5: Year 4 | L5: Year 5 | M5: Total ($) | N5: Work Package (if any) | O5: Justifications
H6: S($) | I6: S($) | J6: S($) | K6: S($) | L6: S($)
B7: PI (Name) | M7: =SUM(H7:L7) -> 0
B8: Co-I (Name) | M8: =SUM(H8:L8) -> 0
B9: Postdoctoral Fellow | M9: =SUM(H9:L9) -> 0
B10: Research Officer | M10: =SUM(H10:L10) -> 0
B11: Lab Technician | M11: =SUM(H11:L11) -> 0
B12: (Pls insert more rows / delete unused rows) | M12: =SUM(H12:L12) -> 0
B13: EOM Sub-Total | H13: =SUM(H7:H12) -> 0 | I13: =SUM(I7:I12) -> 0 | J13: =SUM(J7:J12) -> 0 | K13: =SUM(K7:K12) -> 0 | L13: =SUM(L7:L12) -> 0 | M13: =SUM(M7:M12) -> 0 | N13: -
B14: Equipment (EQPT) (Please state items) | D14: % Usage | E14: No. of EQPT | F14: Source of Funding | G14: Site of Spending (SG Company, SG Performer or Overseas) | H14: Year 1 | I14: Year 2 | J14: Year 3 | K14: Year 4 | L14: Year 5 | M14: Total ($) | N14: Work Package (if any) | O14: Justifications
H15: S($) | I15: S($) | J15: S($) | K15: S($) | L15: S($)
M16: =SUM(H16:L16) -> 0
M17: =SUM(H17:L17) -> 0
M18: =SUM(H18:L18) -> 0
B19: (Pls insert more rows / delete unused rows) | M19: =SUM(H19:L19) -> 0
B20: EQPT Sub-Total | H20: =SUM(H16:H19) -> 0 | I20: =SUM(I16:I19) -> 0 | J20: =SUM(J16:J19) -> 0 | K20: =SUM(K16:K19) -> 0 | L20: =SUM(L16:L19) -> 0 | M20: =SUM(M16:M19) -> 0 | N20: -
B21: Other Operating Expenses (OOE) | F21: Source of Funding | G21: Site of Spending (SG Company, SG Performer or Overseas) | H21: Year 1 | I21: Year 2 | J21: Year 3 | K21: Year 4 | L21: Year 5 | M21: Total ($) | N21: Work Package (if any) | O21: Justifications
H22: S($) | I22: S($) | J22: S($) | K22: S($) | L22: S($)
B23: Materials | M23: =SUM(H23:L23) -> 0
B24: Consumables | M24: =SUM(H24:L24) -> 0
B25: Animal Costs | M25: =SUM(H25:L25) -> 0
B26: Others (please state) | M26: =SUM(H26:L26) -> 0
B27: (Pls insert more rows / delete unused rows) | M27: =SUM(H27:L27) -> 0
B28: OOE Sub-Total | H28: =SUM(H23:H27) -> 0 | I28: =SUM(I23:I27) -> 0 | J28: =SUM(J23:J27) -> 0 | K28: =SUM(K23:K27) -> 0 | L28: =SUM(L23:L27) -> 0 | M28: =SUM(M23:M27) -> 0 | N28: -
B29: Overseas Travel (OT) | E29: No. of trip | F29: Source of Funding | G29: Site of Spending (SG Company, SG Performer or Overseas) | H29: Year 1 | I29: Year 2 | J29: Year 3 | K29: Year 4 | L29: Year 5 | M29: Total ($) | N29: Work Package (if any) | O29: Justifications
H30: S($) | I30: S($) | J30: S($) | K30: S($) | L30: S($)
B31: Conferences (please provide names and places) | M31: =SUM(H31:L31) -> 0
B32: Events (please provide names and places) | M32: =SUM(H32:L32) -> 0
B33: OT Sub-Total | H33: =SUM(H31:H32) -> 0 | I33: =SUM(I31:I32) -> 0 | J33: =SUM(J31:J32) -> 0 | K33: =SUM(K31:K32) -> 0 | L33: =SUM(L31:L32) -> 0 | M33: =SUM(M31:M32) -> 0 | N33: -
B34: Research Scholarship (if any) | D34: % Full Time Equivalent | E34: No. of Headcount involved | F34: Source of Funding | G34: Site of Spending (SG Company, SG Performer or Overseas) | H34: Year 1 | I34: Year 2 | J34: Year 3 | K34: Year 4 | L34: Year 5 | M34: Total ($) | O34: Justifications
H35: S($) | I35: S($) | J35: S($) | K35: S($) | L35: S($)
M36: =SUM(H36:L36) -> 0
B37: Research Scholarship Sub-Total | H37: =SUM(H36) -> 0 | I37: =SUM(I36) -> 0 | J37: =SUM(J36) -> 0 | K37: =SUM(K36) -> 0 | L37: =SUM(L36) -> 0 | M37: =SUM(M36) -> 0
B38: Joint Fund (if any) | F38: Source of Funding | G38: Site of Spending (SG Company, SG Performer or Overseas) | H38: Year 1 | I38: Year 2 | J38: Year 3 | K38: Year 4 | L38: Year 5 | M38: Total ($) | O38: Justifications
H39: S($) | I39: S($) | J39: S($) | K39: S($) | L39: S($)
M40: =SUM(H40:L40) -> 0
B41: Joint Fund Sub-Total | H41: =SUM(H40) -> 0 | I41: =SUM(I40) -> 0 | J41: =SUM(J40) -> 0 | K41: =SUM(K40) -> 0 | L41: =SUM(L40) -> 0 | M41: =SUM(M40) -> 0
...

Sheet 2C1_Coy Cash
A1: 2. PROJECT BUDGET
A3: 2 C1) | B3: Industry Partner's R&D Contribution - Cash
I4: *round to nearest S$10 for direct costs
B5: Manpower (EOM) (Do not include identifiers) | C5: Qualifications | D5: % Full Time Equivalent | E5: No. of headcount | F5: Type of manpower (New or existing) | G5: Source of Funding | H5: Site of Spending (SG Company, SG Performer or Overseas) | I5: Year 1 | J5: Year 2 | K5: Year 3 | L5: Year 4 | M5: Year 5 | N5: Total ($) | O5: Work Package (if any) | P5: Justifications#
I6: S($) | J6: S($) | K6: S($) | L6: S($) | M6: S($)
B7: Postdoctoral Fellow | N7: =SUM(I7:M7) -> 0
B8: Research Officer | N8: =SUM(I8:M8) -> 0
B9: Lab Technician | N9: =SUM(I9:M9) -> 0
N10: =SUM(I10:M10) -> 0
N11: =SUM(I11:M11) -> 0
B12: (Pls insert more rows / delete unused rows) | N12: =SUM(I12:M12) -> 0
B13: EOM Sub-Total | I13: =SUM(I7:I12) -> 0 | J13: =SUM(J7:J12) -> 0 | K13: =SUM(K7:K12) -> 0 | L13: =SUM(L7:L12) -> 0 | M13: =SUM(M7:M12) -> 0 | N13: =SUM(N7:N12) -> 0 | O13: -
B14: Equipment (EQPT) (Please state items) | D14: % Usage | E14: No. of EQPT | F14: Type of equipment (New or existing) | G14: Source of Funding | H14: Site of Spending (SG Company, SG Performer or Overseas) | I14: Year 1 | J14: Year 2 | K14: Year 3 | L14: Year 4 | M14: Year 5 | N14: Total ($) | O14: Work Package (if any) | P14: Justifications
I15: S($) | J15: S($) | K15: S($) | L15: S($) | M15: S($)
N16: =SUM(I16:M16) -> 0
N17: =SUM(I17:M17) -> 0
N18: =SUM(I18:M18) -> 0
B19: (Pls insert more rows / delete unused rows) | N19: =SUM(I19:M19) -> 0
B20: EQPT Sub-Total | I20: =SUM(I16:I19) -> 0 | J20: =SUM(J16:J19) -> 0 | K20: =SUM(K16:K19) -> 0 | L20: =SUM(L16:L19) -> 0 | M20: =SUM(M16:M19) -> 0 | N20: =SUM(N16:N19) -> 0 | O20: -
B21: Other Operating Expenses (OOE) (Please clearly indicate "[CMIK]" in a different colour if this is company manufactured in-kind) | F21: Type of other operating expenses (New or existing) | G21: Source of Funding | H21: Site of Spending (SG Company, SG Performer or Overseas) | I21: Year 1 | J21: Year 2 | K21: Year 3 | L21: Year 4 | M21: Year 5 | N21: Total ($) | O21: Work Package (if any) | P21: Justifications
I22: S($) | J22: S($) | K22: S($) | L22: S($) | M22: S($)
B23: Materials | N23: =SUM(I23:M23) -> 0
B24: Consumables | N24: =SUM(I24:M24) -> 0
B25: Animal Costs | N25: =SUM(I25:M25) -> 0
B26: Others (please state) | N26: =SUM(I26:M26) -> 0
B27: (Pls insert more rows / delete unused rows) | N27: =SUM(I27:M27) -> 0
B28: OOE Sub-Total | I28: =SUM(I23:I27) -> 0 | J28: =SUM(J23:J27) -> 0 | K28: =SUM(K23:K27) -> 0 | L28: =SUM(L23:L27) -> 0 | M28: =SUM(M23:M27) -> 0 | N28: =SUM(N23:N27) -> 0 | O28: -
B29: Overseas Travel (OT) | F29: No. of trip | G29: Source of Funding | H29: Site of Spending (SG Company, SG Performer or Overseas) | I29: Year 1 | J29: Year 2 | K29: Year 3 | L29: Year 4 | M29: Year 5 | N29: Total ($) | O29: Work Package (if any) | P29: Justifications#
I30: S($) | J30: S($) | K30: S($) | L30: S($) | M30: S($)
B31: Conferences (please provide names and places) | N31: =SUM(I31:M31) -> 0
B32: Events (please provide names and places) | N32: =SUM(I32:M32) -> 0
B33: OT Sub-Total | I33: =SUM(I31:I32) -> 0 | J33: =SUM(J31:J32) -> 0 | K33: =SUM(K31:K32) -> 0 | L33: =SUM(L31:L32) -> 0 | M33: =SUM(M31:M32) -> 0 | N33: =SUM(N31:N32) -> 0 | O33: -
B34: Research Scholarship (if any) | D34: % Full Time Equivalent | E34: No. of Headcount involved | G34: Source of Funding | H34: Site of Spending (SG Company, SG Performer or Overseas) | I34: Year 1 | J34: Year 2 | K34: Year 3 | L34: Year 4 | M34: Year 5 | N34: Total ($) | P34: Justifications
I35: S($) | J35: S($) | K35: S($) | L35: S($) | M35: S($)
N36: =SUM(I36:M36) -> 0
B37: Research Scholarship Sub-Total | I37: =SUM(I36) -> 0 | J37: =SUM(J36) -> 0 | K37: =SUM(K36) -> 0 | L37: =SUM(L36) -> 0 | M37: =SUM(M36) -> 0 | N37: =SUM(N36) -> 0
B38: Joint Fund (if any) | G38: Source of Funding | H38: Site of Spending (SG Company, SG Performer or Overseas) | I38: Year 1 | J38: Year 2 | K38: Year 3 | L38: Year 4 | M38: Year 5 | N38: Total ($) | P38: Justifications
I39: S($) | J39: S($) | K39: S($) | L39: S($) | M39: S($)
N40: =SUM(I40:M40) -> 0
B41: Joint Fund Sub-Total | I41: =SUM(I40) -> 0 | J41: =SUM(J40) -> 0 | K41: =SUM(K40) -> 0 | L41: =SUM(L40) -> 0 | M41: =SUM(M40) -> 0 | N41: =SUM(N40) -> 0
...

Sheet 2C2_Coy In-Kind
A1: 2. PROJECT BUDGET
A3: 2 C2) | B3: Industry Partner's R&D Contribution - In-Kind
I4: *round to nearest S$10 for direct costs
B5: Manpower (EOM) (Do not include identifiers) | C5: Qualifications | D5: % Full Time Equivalent | E5: No. of headcount | F5: Type of manpower (New or existing) | G5: Source of Funding | H5: Site of Spending (SG Company, SG Performer or Overseas) | I5: Year 1 | J5: Year 2 | K5: Year 3 | L5: Year 4 | M5: Year 5 | N5: Total ($) | O5: Work Package (WP) | P5: Justifications
I6: S($) | J6: S($) | K6: S($) | L6: S($) | M6: S($)
B7: Postdoctoral Fellow | N7: =SUM(I7:M7) -> 0
B8: Research Officer | N8: =SUM(I8:M8) -> 0
B9: Lab Technician | N9: =SUM(I9:M9) -> 0
N10: =SUM(I10:M10) -> 0
N11: =SUM(I11:M11) -> 0
B12: (Pls insert more rows / delete unused rows) | N12: =SUM(I12:M12) -> 0
B13: EOM Sub-Total | I13: =SUM(I7:I12) -> 0 | J13: =SUM(J7:J12) -> 0 | K13: =SUM(K7:K12) -> 0 | L13: =SUM(L7:L12) -> 0 | M13: =SUM(M7:M12) -> 0 | N13: =SUM(N7:N12) -> 0 | O13: -
B14: Equipment (EQPT) (Please state items) | D14: % Usage | E14: No. of EQPT | F14: Type of equipment (New or existing) | G14: Source of Funding | H14: Site of Spending (SG Company, SG Performer or Overseas) | I14: Year 1 | J14: Year 2 | K14: Year 3 | L14: Year 4 | M14: Year 5 | N14: Total ($) | O14: Work Package (WP) | P14: Justifications#
I15: S($) | J15: S($) | K15: S($) | L15: S($) | M15: S($)
N16: =SUM(I16:M16) -> 0
N17: =SUM(I17:M17) -> 0
N18: =SUM(I18:M18) -> 0
B19: (Pls insert more rows / delete unused rows) | N19: =SUM(I19:M19) -> 0
B20: EQPT Sub-Total | I20: =SUM(I16:I19) -> 0 | J20: =SUM(J16:J19) -> 0 | K20: =SUM(K16:K19) -> 0 | L20: =SUM(L16:L19) -> 0 | M20: =SUM(M16:M19) -> 0 | N20: =SUM(N16:N19) -> 0 | O20: -
B21: Other Operating Expenses (OOE) (Please clearly indicate "[CMIK]" in a different font colour if this is company manufactured in-kind) | F21: Type of other operating expenses (New or existing) | G21: Source of Funding | H21: Site of Spending (SG Company, SG Performer or Overseas) | I21: Year 1 | J21: Year 2 | K21: Year 3 | L21: Year 4 | M21: Year 5 | N21: Total ($) | O21: Work Package (WP) | P21: Justifications#
I22: S($) | J22: S($) | K22: S($) | L22: S($) | M22: S($)
B23: Materials | N23: =SUM(I23:M23) -> 0
B24: Consumables | N24: =SUM(I24:M24) -> 0
B25: Animal Costs | N25: =SUM(I25:M25) -> 0
B26: Others (please state) | N26: =SUM(I26:M26) -> 0
B27: (Pls insert more rows / delete unused rows) | N27: =SUM(I27:M27) -> 0
B28: OOE Sub-Total | I28: =SUM(I23:I27) -> 0 | J28: =SUM(J23:J27) -> 0 | K28: =SUM(K23:K27) -> 0 | L28: =SUM(L23:L27) -> 0 | M28: =SUM(M23:M27) -> 0 | N28: =SUM(N23:N27) -> 0 | O28: -
B29: Research Scholarship (if any) | D29: % Full Time Equivalent | E29: No. of Headcount involved | G29: Source of Funding | H29: Site of Spending (SG Company, SG Performer or Overseas) | I29: Year 1 | J29: Year 2 | K29: Year 3 | L29: Year 4 | M29: Year 5 | N29: Total ($) | P29: Justifications
I30: S($) | J30: S($) | K30: S($) | L30: S($) | M30: S($)
N31: =SUM(I31:M31) -> 0
B32: Research Scholarship Sub-Total | I32: =SUM(I31) -> 0 | J32: =SUM(J31) -> 0 | K32: =SUM(K31) -> 0 | L32: =SUM(L31) -> 0 | M32: =SUM(M31) -> 0 | N32: =SUM(N31) -> 0
B33: Joint Fund (if any) | G33: Source of Funding | H33: Site of Spending (SG Company, SG Performer or Overseas) | I33: Year 1 | J33: Year 2 | K33: Year 3 | L33: Year 4 | M33: Year 5 | N33: Total ($) | P33: Justifications
I34: S($) | J34: S($) | K34: S($) | L34: S($) | M34: S($)
N35: =SUM(I35:M35) -> 0
B36: Joint Fund Sub-Total | I36: =SUM(I35) -> 0 | J36: =SUM(J35) -> 0 | K36: =SUM(K35) -> 0 | L36: =SUM(L35) -> 0 | M36: =SUM(M35) -> 0 | N36: =SUM(N35) -> 0
B37: Indirect Costs (IDC) | H37: Site of Spending (SG Company, SG Performer or Overseas) | I37: Year 1 | J37: Year 2 | K37: Year 3 | L37: Year 4 | M37: Year 5 | N37: Total ($)
I38: S($) | J38: S($) | K38: S($) | L38: S($) | M38: S($)
B39: Overheads | N39: =SUM(I39:M39) -> 0
B40: IDC Sub-Total | I40: =SUM(I39) -> 0 | J40: =SUM(J39) -> 0 | K40: =SUM(K39) -> 0 | L40: =SUM(L39) -> 0 | M40: =SUM(M39) -> 0 | N40: =SUM(N39) -> 0
B41: TOTAL - INDUSTRY IN-KIND CONTRIBUTION | I41: =SUM(I13,I20,I32,I28,I36,I40) -> 0 | J41: =SUM(J13,J20,J32,J28,J36,J40) -> 0 | K41: =SUM(K13,K20,K32,K28,K36,K40) -> 0 | L41: =SUM(L13,L20,L32,L28,L36,L40) -> 0 | M41: =SUM(M13,M20,M32,M28,M36,M40) -> 0 | N41: =SUM(N13,N20,N32,N28,N36,N40) -> 0
...
